BEGIN:VCALENDAR
VERSION:2.0
PRODID:-//GitLab//NONSGML GitLab//EN
CALSCALE:GREGORIAN
X-WR-CALNAME:GitLab Issues
BEGIN:VEVENT
DTSTAMP:20260420T101312Z
UID:c19265a7-5ba7-4384-9a87-6b46c5845aa1
DTSTART;VALUE=DATE:20240528
DESCRIPTION:Find out more at http://58.248.93.125:10000/baseline/baseline/-
 /issues/38
SUMMARY:新LFS系统增加 货代派单管理 (in baseline/baseline)
TRANSP:TRANSPARENT
URL:http://58.248.93.125:10000/baseline/baseline/-/issues/38
END:VEVENT
BEGIN:VEVENT
DTSTAMP:20260420T101312Z
UID:d5c15524-12e1-4e67-9393-e93854135460
DTSTART;VALUE=DATE:20240531
DESCRIPTION:Find out more at http://58.248.93.125:10000/baseline/baseline/-
 /issues/26
SUMMARY:报表中心 - 陆运利润表 (in baseline/baseline)
TRANSP:TRANSPARENT
URL:http://58.248.93.125:10000/baseline/baseline/-/issues/26
END:VEVENT
BEGIN:VEVENT
DTSTAMP:20260420T101312Z
UID:037e827e-4275-430a-a307-95a981c67e35
DTSTART;VALUE=DATE:20240531
DESCRIPTION:Find out more at http://58.248.93.125:10000/baseline/baseline/-
 /issues/25
SUMMARY:报表中心 - 驳运利润表 (in baseline/baseline)
TRANSP:TRANSPARENT
URL:http://58.248.93.125:10000/baseline/baseline/-/issues/25
END:VEVENT
END:VCALENDAR

